BEGIN:VCALENDAR
VERSION:2.0
PRODID:gruenewittenberg.de
METHOD:PUBLISH
BEGIN:VTIMEZONE
TZID:Europe/Berlin
X-LIC-LOCATION:Europe/Berlin
BEGIN:DAYLIGHT
TZOFFSETFROM:+0100
TZOFFSETTO:+0200
TZNAME:CEST
DTSTART:19700329T020000
RRULE:FREQ=YEARLY;INTERVAL=1;BYDAY=-1SU;BYMONTH=3
END:DAYLIGHT
BEGIN:STANDARD
TZOFFSETFROM:+0200
TZOFFSETTO:+0100
TZNAME:CET
DTSTART:19701025T030000
RRULE:FREQ=YEARLY;INTERVAL=1;BYDAY=-1SU;BYMONTH=10
END:STANDARD
END:VTIMEZONE
BEGIN:VEVENT
UID:1a9b5443cdbc88591c80b9a458fe0abc@gruenewittenberg.de
URL;VALUE=URI:https://gruenewittenberg.de/termine/lesung-mit-arne-semsrot
 t
LOCATION:Stadtlabor Wittenberg, Markt 3, Wittenberg
SUMMARY:Lesung mit Arne Semsrott
DESCRIPTION;ALTREP="data:text/html,%0A%3Cp%3EMacht%C3%BCbernahme%20%E2%80
 %93%20was%20passiert%2C%20wenn%20Rechtsextreme%20regieren%3F%3C%2Fp%3E%0A
 %0A%0A%0A%3Cp%3EH%C3%B6chste%20Zeit%2C%20sich%20mit%20der%20realen%20Gefa
 hr%20einer%20autorit%C3%A4ren%20Macht%C3%BCbernahme%20auseinanderzusetzen
 .%20Der%20bekannte%20Politikwissenschaftler%20und%20Demokratie-Aktivist%2
 6nbsp%3B%3Cstrong%3EArne%20Semsrott%26nbsp%3B%3C%2Fstrong%3Ezeigt%2C%20wa
 s%20passiert%2C%20wenn%20Rechtsextremisten%20an%20die%20Macht%20kommen.%2
 0Und%20er%20liefert%20konkrete%20Strategien%20daf%C3%BCr%2C%20wie%20wir%2
 0unsere%26nbsp%3B%3Cstrong%3Edemokratische%20Gesellschaft%20verteidigen%2
 6nbsp%3B%3C%2Fstrong%3Ek%C3%B6nnen.%3C%2Fp%3E%0A%0A%0A%0A%3Cp%3E%3Cstrong
 %3EDie%20Zeit%20des%20Handelns%20ist%20jetzt%3C%2Fstrong%3E%3C%2Fp%3E%0A%
 0A%0A%0A%3Cp%3EDer%20Rechtsextremismus%20bedroht%20die%20Demokratie%20unm
 ittelbar.%20Arne%20Semsrott%2C%20der%20als%20Leiter%20des%20Informationsp
 ortals%20%E2%80%9EFrag%20den%20Staat%E2%80%9C%20%C3%BCber%20eine%20umfass
 ende%20Verwaltungs-Expertise%20verf%C3%BCgt%2C%20beschreibt%20eindr%C3%BC
 cklich%3A%20Unsere%20Institutionen%20sind%20angreifbar%2C%20B%C3%BCrokrat
 ie%20und%20Verwaltung%20scheinen%20fragiler%20denn%20je.%20Schulen%2C%20F
 inanz%C3%A4mter%2C%20Ministerien%2C%20%C3%B6ffentlich-rechtlicher%20Rundf
 unk%20und%20Polizei%20bilden%20das%20demokratische%20Fundament%20unserer%
 20Gesellschaft%20%E2%80%93%20doch%20was%20geschieht%2C%20wenn%20sie%20fal
 len%3F%20Und%20wie%20lassen%20sich%20Verfassung%20und%20Gewaltenteilung%2
 0verteidigen%2C%20wenn%20Rechte%20beginnen%2C%20den%20Staat%20umzubauen%2
 C%20um%20ihre%20Macht%20langfristig%20zu%20festigen%3F%3C%2Fp%3E%0A%0A%0A
 %0A%3Cp%3ESemsrott%20zeigt%20in%20seinem%20brandaktuellen%20Sachbuch%20ga
 nz%20konkret%2C%20welche%20Mittel%20Gewerkschaften%2C%20Beamte%2C%20Justi
 z%2C%20Medien%2C%20Unternehmen%20und%20die%20Zivilgesellschaft%20nutzen%2
 0k%C3%B6nnen%2C%20um%20einer%20rechten%20Macht%C3%BCbernahme%20zu%20begeg
 nen.%3C%2Fp%3E%0A%0A%0A%0A%3Cp%3EIm%20Gespr%C3%A4ch%20mit%20dem%20Autor%2
 0sprechen%20wir%20%C3%BCber%20die%20aktuelle%20politische%20Situation%20i
 n%20Sachsen-Anhalt%20im%20Wahljahr%202026%2C%20%C3%BCber%20die%20Kraft%20
 der%20demokratischen%20Zivilgesellschaft%20und%20dar%C3%BCber%2C%20welche
 s%20Handeln%20jetzt%20erforderlich%20ist.%3C%2Fp%3E%0A%0A%0A%0A%3Cp%3EEin
 e%20gemeinsame%20Veranstaltung%20mit%20dem%20%3Ca%20href%3D%22https%3A%2F
 %2Fwww.wbweltoffen.de%2F%22%20target%3D%22_blank%22%20rel%3D%22noreferrer
 %20noopener%22%3EB%C3%BCndnis%20Wittenberg%20weltoffen%3C%2Fa%3E%2C%20dem
 %20Stadtwohnzimmer%2C%20der%20%3Ca%20href%3D%22https%3A%2F%2Fev-akademie-
 wittenberg.de%2F%22%20target%3D%22_blank%22%20rel%3D%22noreferrer%20noope
 ner%22%3EEvangelischen%20Akademie%20Sachsen-Anhalt%3C%2Fa%3E%20und%20der%
 20%3Ca%20href%3D%22https%3A%2F%2Fwww.boell-sachsen-anhalt.de%2Fde%22%20ta
 rget%3D%22_blank%22%20rel%3D%22noreferrer%20noopener%22%3EHeinrich-B%C3%B
 6ll-Stiftung%20Sachsen-Anhalt%3C%2Fa%3E.%3C%2Fp%3E%0A%0A%0A%0A%3Cp%3E%3Cs
 trong%3EDer%20Eintritt%20ist%20frei.%3C%2Fstrong%3E%3C%2Fp%3E%0A%0A%0A%0A
 %3Cp%3E%3C%2Fp%3E%0A":Machtübernahme – was passiert\, wenn Rechtsextre
 me regieren?\n\nHöchste Zeit\, sich mit der realen Gefahr einer autorit
 ären Machtübernahme auseinanderzusetzen. Der bekannte Politikwissenscha
 ftler und Demokratie-Aktivist Arne Semsrott zeigt\, was passiert\, wenn
  Rechtsextremisten an die Macht kommen. Und er liefert konkrete Strategie
 n dafür\, wie wir unsere demokratische Gesellschaft verteidigen könne
 n.\n\nDie Zeit des Handelns ist jetzt\n\nDer Rechtsextremismus bedroht di
 e Demokratie unmittelbar. Arne Semsrott\, der als Leiter des Informations
 portals „Frag den Staat“ über eine umfassende Verwaltungs-Expertise 
 verfügt\, beschreibt eindrücklich: Unsere Institutionen sind angreifbar
 \, Bürokratie und Verwaltung scheinen fragiler denn je. Schulen\, Finanz
 ämter\, Ministerien\, öffentlich-rechtlicher Rundfunk und Polizei bilde
 n das demokratische Fundament unserer Gesellschaft – doch was geschieht
 \, wenn sie fallen? Und wie lassen sich Verfassung und Gewaltenteilung ve
 rteidigen\, wenn Rechte beginnen\, den Staat umzubauen\, um ihre Macht la
 ngfristig zu festigen?\n\nSemsrott zeigt in seinem brandaktuellen Sachbuc
 h ganz konkret\, welche Mittel Gewerkschaften\, Beamte\, Justiz\, Medien\
 , Unternehmen und die Zivilgesellschaft nutzen können\, um einer rechten
  Machtübernahme zu begegnen.\n\nIm Gespräch mit dem Autor sprechen wir 
 über die aktuelle politische Situation in Sachsen-Anhalt im Wahljahr 202
 6\, über die Kraft der demokratischen Zivilgesellschaft und darüber\, w
 elches Handeln jetzt erforderlich ist.\n\nEine gemeinsame Veranstaltung m
 it dem Bündnis Wittenberg weltoffen\, dem Stadtwohnzimmer\, der Evangeli
 schen Akademie Sachsen-Anhalt und der Heinrich-Böll-Stiftung Sachsen-Anh
 alt.\n\nDer Eintritt ist frei.
CLASS:PUBLIC
DTSTART;TZID=Europe/Berlin:20260318T190000
DTEND;TZID=Europe/Berlin:20260318T210000
DTSTAMP:20260421T101420
END:VEVENT
END:VCALENDAR